Workbook
Name _1.10.10: data!$A$2:$A$17
Name Disziplin: data!$A$17

Sheet Meldungsbogen
A1: Meldung Kreismeisterschaften 2027
A3: Verein: | C3: 3112 | D3: =IF(C3=0," ",VLOOKUP(C3,data!A70:C90,2)) -> SGes Dalbke e.V.
A4: Sportleiter: | C4: =IF(C3=0," ",VLOOKUP(C3,data!A30:C68,3)) -> Jona Brechmann | D4: Jugendleiter: | E4: =IF(C3=0," ",VLOOKUP(C3,data!A68:C115,3)) -> Jana Hollmann
A6: Disziplin | C6: Wettbewerb | D6: Klasse gem. Alter | E6: Name | F6: Vorname | G6: Geburtsdatum | H6: Mannschaft
A7: 1.10 | C7: =IF(A7=0," ",VLOOKUP(A7,data!$A$2:$C$29,2)) -> Luftgewehr | E7: Mustermann | H7: Mannschaft I
A8: 1.10 | C8: =IF(A8=0," ",VLOOKUP(A8,data!$A$2:$C$29,2)) -> Luftgewehr | H8: Mannschaft I
A9: 1.10 | C9: =IF(A9=0," ",VLOOKUP(A9,data!$A$2:$C$29,2)) -> Luftgewehr | H9: Mannschaft I
C10: =IF(A10=0," ",VLOOKUP(A10,data!$A$2:$C$29,2))
A11: 2.10 | C11: =IF(A11=0," ",VLOOKUP(A11,data!$A$2:$C$29,2)) -> Luftpistole | H11: Einzel
C12: =IF(A12=0," ",VLOOKUP(A12,data!$A$2:$C$29,2))
C13: =IF(A13=0," ",VLOOKUP(A13,data!$A$2:$C$29,2))
A14: 2.40 | C14: =IF(A14=0," ",VLOOKUP(A14,data!$A$2:$C$29,2)) -> KK - SpoPi | H14: Einzel
C15: =IF(A15=0," ",VLOOKUP(A15,data!$A$2:$C$29,2))
C16: =IF(A16=0," ",VLOOKUP(A16,data!$A$2:$C$29,2))
C17: =IF(A17=0," ",VLOOKUP(A17,data!$A$2:$C$29,2))
C18: =IF(A18=0," ",VLOOKUP(A18,data!$A$2:$C$29,2))
C19: =IF(A19=0," ",VLOOKUP(A19,data!$A$2:$C$29,2))
C20: =IF(A20=0," ",VLOOKUP(A20,data!$A$2:$C$29,2))
C21: =IF(A21=0," ",VLOOKUP(A21,data!$A$2:$C$29,2))
C22: =IF(A22=0," ",VLOOKUP(A22,data!$A$2:$C$29,2))
C23: =IF(A23=0," ",VLOOKUP(A23,data!$A$2:$C$29,2))
C24: =IF(A24=0," ",VLOOKUP(A24,data!$A$2:$C$29,2))
C25: =IF(A25=0," ",VLOOKUP(A25,data!$A$2:$C$29,2))
C26: =IF(A26=0," ",VLOOKUP(A26,data!$A$2:$C$29,2))
... C56: =IF(A56=0," ",VLOOKUP(A56,data!$A$2:$C$29,2))

Sheet data
A1: Disziplinen:
A2: 1.10 | B2: Luftgewehr
A3: 1.10 (sch/Jug) | B3: LG (sch/Jug)
A4: 1.11 | B4: Luftgewehr Auflage
A5: 1.11 (sitz) | B5: LG sitzend Auflage
A6: 1.12 | B6: LG Mixed
A7: 1.20 | B7: Luftgewehr 3x20
A8: 1.35 | B8: KK - 100m
A9: 1.36 | B9: KK 100m Auflage
A10: 1.40 | B10: KK - 3x20
A11: 1.41 | B11: KK 50m Auflage
A12: 1.60 | B12: KK - 3x40
A13: 1.80 | B13: KK Liegendkampf
... A27: 3.10 | B27: Wurfscheiben-Trap
A30: Sportleiter | B30: Verein | C30: Name
A31: 3101 | B31: Bielefelder Sges e.V. | C31: Gisela Senkbeil
A32: 3102 | B32: SSV Diana Bielefeld e.V. | C32: Björn Gloth
A33: 3105 | B33: PolSV Bielefeld e.V. | C33: Michael Halemeyer
A34: 3110 | B34: SV Brackwede e.V. | C34: Maik Pollmann
A35: 3111 | B35: Spvg Brackwede e.V. | C35: Michael Quitschau
A36: 3112 | B36: SGes Dalbke e.V. | C36: Jona Brechmann
A37: 3113 | B37: Dornberger Schützen 1953 e.V. | C37: Sabine Burstaedt
A38: 3114 | B38: SGes Heepen e.V. | C38: Christian Büscher
A39: 3116 | B39: SSV Jöllenbeck e.V. | C39: Rolf Schäfer
A40: 3118 | B40: Oerlinghauser SGes e.V. | C40: Udo Heidsiek
A41: 3101 | B41: Bielefelder Sges e.V. | C41: Gisela Senkbeil
A42: 3105 | B42: PolSV Bielefeld e.V. | C42: Michael Halemeyer
... A45: 3112 | B45: SGes Dalbke e.V. | C45: Jona Brechmann
A46: 3199 | B46: SV Mustermann | C46: Karl Mustermann
A47: 3122 | B47: SV Nienhagen e.V. | C47: Albrecht Zurheide
A77: Jugendleiter | B77: Verein | C77: Name
A78: 3101 | B78: Bielefelder Sges e.V.
A79: 3102 | B79: SSV Diana Bielefeld e.V. | C79: Ralf Martin
A80: 3105 | B80: PolSV Bielefeld e.V. | C80: Ralf Hanning
A81: 3110 | B81: SV Brackwede e.V. | C81: Maik Pollmann
A82: 3111 | B82: Spvg Brackwede e.V. | C82: Michael Quitschau
A83: 3112 | B83: SGes Dalbke e.V. | C83: Jana Hollmann
A84: 3113 | B84: Dornberger Schützen 1953 e.V.
A85: 3114 | B85: SGes Heepen e.V. | C85: Mira Grübel
A86: 3116 | B86: SSV Jöllenbeck e.V. | C86: Rolf Schäfer
A87: 3118 | B87: Oerlinghauser SGes e.V. | C87: Udo Heidsiek
A88: 3122 | B88: SV Nienhagen e.V. | C88: Marcel Wilhelm

Sheet Tabelle1
